BEGIN:VCALENDAR
VERSION:2.0
PRODID:-//Archery Service Center - ECPv5.12.2//NONSGML v1.0//EN
CALSCALE:GREGORIAN
METHOD:PUBLISH
X-WR-CALNAME:Archery Service Center
X-ORIGINAL-URL:https://archeryservicecenter.nl
X-WR-CALDESC:Evenementen voor Archery Service Center
BEGIN:VTIMEZONE
TZID:Europe/Paris
BEGIN:DAYLIGHT
TZOFFSETFROM:+0100
TZOFFSETTO:+0200
TZNAME:CEST
DTSTART:20190331T010000
END:DAYLIGHT
BEGIN:STANDARD
TZOFFSETFROM:+0200
TZOFFSETTO:+0100
TZNAME:CET
DTSTART:20191027T010000
END:STANDARD
END:VTIMEZONE
BEGIN:VEVENT
DTSTART;VALUE=DATE:20191226
DTEND;VALUE=DATE:20191227
DTSTAMP:20260421T112057
CREATED:20190822T092938Z
LAST-MODIFIED:20190822T092941Z
UID:18447-1577318400-1577404799@archeryservicecenter.nl
SUMMARY:2e Kerstdag zijn we gesloten!
DESCRIPTION:Op 2e kerstdag zijn we gesloten. \nVrijdag 27 december zijn we weer geopend volgens onze reguliere openingstijden.
URL:https://archeryservicecenter.nl/agenda/2e-kerstdag-zijn-we-gesloten/
CATEGORIES:Algemene informatie,Evenement
END:VEVENT
END:VCALENDAR