BEGIN:VCALENDAR
VERSION:2.0
PRODID:-//Archery Service Center - ECPv5.12.2//NONSGML v1.0//EN
CALSCALE:GREGORIAN
METHOD:PUBLISH
X-WR-CALNAME:Archery Service Center
X-ORIGINAL-URL:https://archeryservicecenter.nl
X-WR-CALDESC:Evenementen voor Archery Service Center
BEGIN:VTIMEZONE
TZID:Europe/Paris
BEGIN:DAYLIGHT
TZOFFSETFROM:+0100
TZOFFSETTO:+0200
TZNAME:CEST
DTSTART:20190331T010000
END:DAYLIGHT
BEGIN:STANDARD
TZOFFSETFROM:+0200
TZOFFSETTO:+0100
TZNAME:CET
DTSTART:20191027T010000
END:STANDARD
END:VTIMEZONE
BEGIN:VEVENT
DTSTART;TZID=Europe/Paris:20190310T100000
DTEND;TZID=Europe/Paris:20190310T140000
DTSTAMP:20260424T204600
CREATED:20190217T115617Z
LAST-MODIFIED:20190217T115808Z
UID:17961-1552212000-1552226400@archeryservicecenter.nl
SUMMARY:Handboog Clinic voor Veteranen
DESCRIPTION:
URL:https://archeryservicecenter.nl/agenda/handboog-clinic-voor-veteranen-bij-archery-service-center/
CATEGORIES:Evenement
ORGANIZER;CN="Archery%20Service%20Center":MAILTO:info@archeryservicecenter.nl
END:VEVENT
END:VCALENDAR