BEGIN:VCALENDAR
VERSION:2.0
PRODID:-//Archery Service Center - ECPv5.12.2//NONSGML v1.0//EN
CALSCALE:GREGORIAN
METHOD:PUBLISH
X-WR-CALNAME:Archery Service Center
X-ORIGINAL-URL:https://archeryservicecenter.nl
X-WR-CALDESC:Evenementen voor Archery Service Center
BEGIN:VTIMEZONE
TZID:Europe/Paris
BEGIN:DAYLIGHT
TZOFFSETFROM:+0100
TZOFFSETTO:+0200
TZNAME:CEST
DTSTART:20180325T010000
END:DAYLIGHT
BEGIN:STANDARD
TZOFFSETFROM:+0200
TZOFFSETTO:+0100
TZNAME:CET
DTSTART:20181028T010000
END:STANDARD
END:VTIMEZONE
BEGIN:VEVENT
DTSTART;TZID=Europe/Paris:20180527T100000
DTEND;TZID=Europe/Paris:20180527T150000
DTSTAMP:20260424T144048
CREATED:20180416T094457Z
LAST-MODIFIED:20180416T094653Z
UID:17503-1527415200-1527433200@archeryservicecenter.nl
SUMMARY:Workshop Veld: meten is weten
DESCRIPTION:27 manieren om het verschil te herkennen tussen een 60cm en 80cm Veldblazoen. \nVoor alle disciplines\, meld je nu aan! \nhttps://archeryservicecenter.nl/category/workshops/
URL:https://archeryservicecenter.nl/agenda/workshop-veld-meten-is-weten/
CATEGORIES:Evenement,Workshop
ATTACH;FMTTYPE=image/jpeg:https://archeryservicecenter.nl/wp-content/uploads/veldblazoenen.jpg
END:VEVENT
END:VCALENDAR